BEGIN:VCALENDAR
VERSION:2.0
PRODID:-//Tukios.com/
BEGIN:VEVENT
UID:a918248b-8fa8-4a25-8fb7-02f2befd1e24@www.lagroneblackburnshaw.com
DTSTAMP:20260420T174859Z
DTSTART:20260421T201500Z
DTEND:20260421T211500Z
SUMMARY:Graveside Service
DESCRIPTION:
URL:https://www.lagroneblackburnshaw.com/obituaries/evin-sotelo
LOCATION: 2900 South Hayes Street  Amarillo TX 79103
GEO:35.1826939;-101.8312956
END:VEVENT
END:VCALENDAR