BEGIN:VCALENDAR
VERSION:2.0
PRODID:-//Tukios.com/
BEGIN:VEVENT
UID:9ff130fd-ae7c-4562-9805-ed778cfd6edf@www.lagroneblackburnshaw.com
DTSTAMP:20260420T174731Z
DTSTART:20260421T190000Z
DTEND:20260421T200000Z
SUMMARY:Funeral Service
DESCRIPTION:
URL:https://www.lagroneblackburnshaw.com/obituaries/evin-sotelo
LOCATION: 8310 Coulter St S  Amarillo TX 79119
GEO:35.1235005;-101.9205038
END:VEVENT
END:VCALENDAR