BEGIN:VCALENDAR
VERSION:2.0
PRODID:-//Tukios.com/
BEGIN:VEVENT
UID:cc03e291-3230-4f9b-a23b-b0f6c90714a3@www.lagroneblackburnshaw.com
DTSTAMP:20260420T174838Z
DTSTART:20260420T220000Z
DTEND:20260421T000000Z
SUMMARY:Visitation
DESCRIPTION:
URL:https://www.lagroneblackburnshaw.com/obituaries/evin-sotelo
LOCATION: 8310 Coulter St S  Amarillo TX 79119
GEO:35.1235005;-101.9205038
END:VEVENT
END:VCALENDAR